BEGIN:VCALENDAR
VERSION:2.0
PRODID:-//National Association of College and University Attorneys - ECPv6.15.20//NONSGML v1.0//EN
CALSCALE:GREGORIAN
METHOD:PUBLISH
X-WR-CALNAME:National Association of College and University Attorneys
X-ORIGINAL-URL:https://dev.nacua.org
X-WR-CALDESC:Events for National Association of College and University Attorneys
REFRESH-INTERVAL;VALUE=DURATION:PT1H
X-Robots-Tag:noindex
X-PUBLISHED-TTL:PT1H
BEGIN:VTIMEZONE
TZID:America/New_York
BEGIN:DAYLIGHT
TZOFFSETFROM:-0500
TZOFFSETTO:-0400
TZNAME:EDT
DTSTART:20250309T070000
END:DAYLIGHT
BEGIN:STANDARD
TZOFFSETFROM:-0400
TZOFFSETTO:-0500
TZNAME:EST
DTSTART:20251102T060000
END:STANDARD
BEGIN:DAYLIGHT
TZOFFSETFROM:-0500
TZOFFSETTO:-0400
TZNAME:EDT
DTSTART:20260308T070000
END:DAYLIGHT
BEGIN:STANDARD
TZOFFSETFROM:-0400
TZOFFSETTO:-0500
TZNAME:EST
DTSTART:20261101T060000
END:STANDARD
BEGIN:DAYLIGHT
TZOFFSETFROM:-0500
TZOFFSETTO:-0400
TZNAME:EDT
DTSTART:20270314T070000
END:DAYLIGHT
BEGIN:STANDARD
TZOFFSETFROM:-0400
TZOFFSETTO:-0500
TZNAME:EST
DTSTART:20271107T060000
END:STANDARD
END:VTIMEZONE
BEGIN:VEVENT
DTSTART;TZID=America/New_York:20260113T120000
DTEND;TZID=America/New_York:20260113T140000
DTSTAMP:20260422T111200
CREATED:20251229T232538Z
LAST-MODIFIED:20260316T172101Z
UID:36126-1768305600-1768312800@dev.nacua.org
SUMMARY:All Around the World: International Contracts in Higher Education
DESCRIPTION:Sorry\, but you do not have permission to view this content.
URL:https://dev.nacua.org/event/all-around-the-world-international-contracts-in-higher-education/
CATEGORIES:Virtual,Webinar
ATTACH;FMTTYPE=image/png:https://dev.nacua.org/wp-content/uploads/2025/12/01.13.26-Webinar-Header-Image.png
END:VEVENT
BEGIN:VEVENT
DTSTART;TZID=America/New_York:20260120T133000
DTEND;TZID=America/New_York:20260120T140000
DTSTAMP:20260422T111201
CREATED:20260114T221605Z
LAST-MODIFIED:20260316T173827Z
UID:37685-1768915800-1768917600@dev.nacua.org
SUMMARY:Executive Branch Updates | The First Year: Washington Update
DESCRIPTION:Sorry\, but you do not have permission to view this content.
URL:https://dev.nacua.org/event/executive-branch-updates-the-first-year-washington-update/
CATEGORIES:Briefing,Virtual
ATTACH;FMTTYPE=image/png:https://dev.nacua.org/wp-content/uploads/2026/01/01.20.26-Briefing-Header-Image-1.png
END:VEVENT
BEGIN:VEVENT
DTSTART;TZID=America/New_York:20260128T000000
DTEND;TZID=America/New_York:20260130T235959
DTSTAMP:20260422T111201
CREATED:20251014T190543Z
LAST-MODIFIED:20260316T172112Z
UID:464-1769558400-1769817599@dev.nacua.org
SUMMARY:Winter 2026 Virtual CLE Workshop: Compliance
DESCRIPTION:Sorry\, but you do not have permission to view this content.
URL:https://dev.nacua.org/event/winter-2026-virtual-cle-workshop-compliance/
CATEGORIES:CLE Workshop,Virtual
ATTACH;FMTTYPE=image/jpeg:https://dev.nacua.org/wp-content/uploads/2025/10/Winter-2026-CLE-iStock-628471174-scaled.jpg
END:VEVENT
END:VCALENDAR