BEGIN:VCALENDAR
VERSION:2.0
PRODID:-//National Association of College and University Attorneys - ECPv6.15.20//NONSGML v1.0//EN
CALSCALE:GREGORIAN
METHOD:PUBLISH
X-WR-CALNAME:National Association of College and University Attorneys
X-ORIGINAL-URL:https://dev.nacua.org
X-WR-CALDESC:Events for National Association of College and University Attorneys
REFRESH-INTERVAL;VALUE=DURATION:PT1H
X-Robots-Tag:noindex
X-PUBLISHED-TTL:PT1H
BEGIN:VTIMEZONE
TZID:America/New_York
BEGIN:DAYLIGHT
TZOFFSETFROM:-0500
TZOFFSETTO:-0400
TZNAME:EDT
DTSTART:20210314T070000
END:DAYLIGHT
BEGIN:STANDARD
TZOFFSETFROM:-0400
TZOFFSETTO:-0500
TZNAME:EST
DTSTART:20211107T060000
END:STANDARD
BEGIN:DAYLIGHT
TZOFFSETFROM:-0500
TZOFFSETTO:-0400
TZNAME:EDT
DTSTART:20220313T070000
END:DAYLIGHT
BEGIN:STANDARD
TZOFFSETFROM:-0400
TZOFFSETTO:-0500
TZNAME:EST
DTSTART:20221106T060000
END:STANDARD
BEGIN:DAYLIGHT
TZOFFSETFROM:-0500
TZOFFSETTO:-0400
TZNAME:EDT
DTSTART:20230312T070000
END:DAYLIGHT
BEGIN:STANDARD
TZOFFSETFROM:-0400
TZOFFSETTO:-0500
TZNAME:EST
DTSTART:20231105T060000
END:STANDARD
BEGIN:DAYLIGHT
TZOFFSETFROM:-0500
TZOFFSETTO:-0400
TZNAME:EDT
DTSTART:20240310T070000
END:DAYLIGHT
BEGIN:STANDARD
TZOFFSETFROM:-0400
TZOFFSETTO:-0500
TZNAME:EST
DTSTART:20241103T060000
END:STANDARD
BEGIN:DAYLIGHT
TZOFFSETFROM:-0500
TZOFFSETTO:-0400
TZNAME:EDT
DTSTART:20250309T070000
END:DAYLIGHT
BEGIN:STANDARD
TZOFFSETFROM:-0400
TZOFFSETTO:-0500
TZNAME:EST
DTSTART:20251102T060000
END:STANDARD
END:VTIMEZONE
BEGIN:VEVENT
DTSTART;TZID=America/New_York:20240425T133000
DTEND;TZID=America/New_York:20240425T140000
DTSTAMP:20260423T070823
CREATED:20260112T132743Z
LAST-MODIFIED:20260316T142629Z
UID:37457-1714051800-1714053600@dev.nacua.org
SUMMARY:The 2024 Title IX Regulations are Here!
DESCRIPTION:Sorry\, but you do not have permission to view this content.
URL:https://dev.nacua.org/event/the-2024-title-ix-regulations-are-here/
CATEGORIES:Briefing,Virtual
ATTACH;FMTTYPE=image/png:https://dev.nacua.org/wp-content/uploads/2026/01/04.25.24-Briefing-Header-Image.png
END:VEVENT
BEGIN:VEVENT
DTSTART;TZID=America/New_York:20240320T000000
DTEND;TZID=America/New_York:20240322T235959
DTSTAMP:20260423T070823
CREATED:20251229T220139Z
LAST-MODIFIED:20260115T204623Z
UID:36102-1710892800-1711151999@dev.nacua.org
SUMMARY:2024 General Counsel Institute
DESCRIPTION:Sorry\, but you do not have permission to view this content.
URL:https://dev.nacua.org/event/2024-general-counsel-institute/
LOCATION:The Westin Denver Downtown\, Denver\, CO\, Denver\, CO
CATEGORIES:CLE Workshop,In Person
END:VEVENT
BEGIN:VEVENT
DTSTART;TZID=America/New_York:20240305T120000
DTEND;TZID=America/New_York:20240305T140000
DTSTAMP:20260423T070823
CREATED:20260307T180744Z
LAST-MODIFIED:20260317T141703Z
UID:40909-1709640000-1709647200@dev.nacua.org
SUMMARY:How to Play the Game: Navigating the State Legislative Process
DESCRIPTION:Sorry\, but you do not have permission to view this content.
URL:https://dev.nacua.org/event/how-to-play-the-game-navigating-the-state-legislative-process/
CATEGORIES:Virtual,Webinar
ATTACH;FMTTYPE=image/png:https://dev.nacua.org/wp-content/uploads/2026/03/03.05.24-Webinar-Header-Image.png
END:VEVENT
BEGIN:VEVENT
DTSTART;TZID=America/New_York:20240215T143000
DTEND;TZID=America/New_York:20240215T163000
DTSTAMP:20260423T070823
CREATED:20260307T184343Z
LAST-MODIFIED:20260307T191843Z
UID:40920-1708007400-1708014600@dev.nacua.org
SUMMARY:Unraveling Ethical Dilemmas in Campus Labor Relations
DESCRIPTION:Sorry\, but you do not have permission to view this content.
URL:https://dev.nacua.org/event/unraveling-ethical-dilemmas-in-campus-labor-relations/
CATEGORIES:Virtual,Webinar
ATTACH;FMTTYPE=image/png:https://dev.nacua.org/wp-content/uploads/2026/03/Feb152024.png
END:VEVENT
BEGIN:VEVENT
DTSTART;TZID=America/New_York:20240207T000000
DTEND;TZID=America/New_York:20240209T235959
DTSTAMP:20260423T070823
CREATED:20251229T220602Z
LAST-MODIFIED:20260115T205428Z
UID:36107-1707264000-1707523199@dev.nacua.org
SUMMARY:Winter 2024 Virtual CLE Workshop: Higher Education Employment Law
DESCRIPTION:Sorry\, but you do not have permission to view this content.
URL:https://dev.nacua.org/event/winter-2024-virtual-cle-workshop-higher-education-employment-law/
LOCATION:Virtual
CATEGORIES:CLE Workshop
END:VEVENT
BEGIN:VEVENT
DTSTART;TZID=America/New_York:20231207T140000
DTEND;TZID=America/New_York:20231207T160000
DTSTAMP:20260423T070823
CREATED:20260307T192227Z
LAST-MODIFIED:20260316T171840Z
UID:40928-1701957600-1701964800@dev.nacua.org
SUMMARY:Generative AI: Chat With Real Humans About Emergent Issues
DESCRIPTION:Sorry\, but you do not have permission to view this content.
URL:https://dev.nacua.org/event/generative-ai-chat-with-real-humans-about-emergent-issues/
CATEGORIES:Virtual,Webinar
ATTACH;FMTTYPE=image/png:https://dev.nacua.org/wp-content/uploads/2026/03/12.07.23-Webinar-Header-Image.png
END:VEVENT
BEGIN:VEVENT
DTSTART;TZID=America/New_York:20231130T130000
DTEND;TZID=America/New_York:20231130T150000
DTSTAMP:20260423T070823
CREATED:20260307T200849Z
LAST-MODIFIED:20260316T172040Z
UID:40941-1701349200-1701356400@dev.nacua.org
SUMMARY:The Financial Value Transparency Wake-Up Call: Navigating a New Compliance and Business Landscape
DESCRIPTION:Sorry\, but you do not have permission to view this content.
URL:https://dev.nacua.org/event/the-financial-value-transparency-wake-up-call-navigating-a-new-compliance-and-business-landscape/
CATEGORIES:Virtual,Webinar
ATTACH;FMTTYPE=image/png:https://dev.nacua.org/wp-content/uploads/2026/03/11.30.23-Webinar-Header-Image.png
END:VEVENT
BEGIN:VEVENT
DTSTART;TZID=America/New_York:20231108T000000
DTEND;TZID=America/New_York:20231110T235959
DTSTAMP:20260423T070823
CREATED:20251229T221043Z
LAST-MODIFIED:20260115T204817Z
UID:36109-1699401600-1699660799@dev.nacua.org
SUMMARY:Fall 2023 CLE Workshop: Compliance
DESCRIPTION:Sorry\, but you do not have permission to view this content.
URL:https://dev.nacua.org/event/fall-2023-cle-workshop-compliance/
LOCATION:Omni Shoreham Hotel\, Washington\, DC\, Washington\, DC
CATEGORIES:CLE Workshop,In Person
END:VEVENT
BEGIN:VEVENT
DTSTART;TZID=America/New_York:20230929T150000
DTEND;TZID=America/New_York:20230929T170000
DTSTAMP:20260423T070823
CREATED:20260309T193119Z
LAST-MODIFIED:20260318T142630Z
UID:41023-1695999600-1696006800@dev.nacua.org
SUMMARY:Race-Conscious Admissions Guidance Post-Students for Fair Admissions (Part 3)
DESCRIPTION:Sorry\, but you do not have permission to view this content.
URL:https://dev.nacua.org/event/race-conscious-admissions-guidance-post-students-for-fair-admissions-part-3/
CATEGORIES:Virtual,Webinar
ATTACH;FMTTYPE=image/png:https://dev.nacua.org/wp-content/uploads/2026/03/9.29.23-Webinar-Header-Image.png
END:VEVENT
BEGIN:VEVENT
DTSTART;TZID=America/New_York:20230627T000000
DTEND;TZID=America/New_York:20230630T235959
DTSTAMP:20260423T070823
CREATED:20251229T211022Z
LAST-MODIFIED:20260109T134945Z
UID:36068-1687824000-1688169599@dev.nacua.org
SUMMARY:2023 Annual Conference
DESCRIPTION:Sorry\, but you do not have permission to view this content.
URL:https://dev.nacua.org/event/2023-annual-conference/
LOCATION:Chicago\, IL\, Chicago\, IL
CATEGORIES:Annual Conference,In Person
END:VEVENT
BEGIN:VEVENT
DTSTART;TZID=America/New_York:20230626T000000
DTEND;TZID=America/New_York:20230627T235959
DTSTAMP:20260423T070823
CREATED:20251229T221231Z
LAST-MODIFIED:20260115T204620Z
UID:36111-1687737600-1687910399@dev.nacua.org
SUMMARY:2023 Lawyers New to Higher Education Workshop
DESCRIPTION:Sorry\, but you do not have permission to view this content.
URL:https://dev.nacua.org/event/2023-lawyers-new-to-higher-education-workshop/
LOCATION:Chicago\, IL\, Chicago\, IL
CATEGORIES:CLE Workshop,In Person
END:VEVENT
BEGIN:VEVENT
DTSTART;TZID=America/New_York:20230530T120000
DTEND;TZID=America/New_York:20230530T131500
DTSTAMP:20260423T070823
CREATED:20260309T195715Z
LAST-MODIFIED:20260316T172501Z
UID:41043-1685448000-1685452500@dev.nacua.org
SUMMARY:What General Counsel Need to Know About Ombuds
DESCRIPTION:Sorry\, but you do not have permission to view this content.
URL:https://dev.nacua.org/event/what-general-counsel-need-to-know-about-ombuds/
CATEGORIES:Virtual,Webinar
ATTACH;FMTTYPE=image/jpeg:https://dev.nacua.org/wp-content/uploads/2026/03/5-30-23-webinar-header-image.jpg
END:VEVENT
BEGIN:VEVENT
DTSTART;TZID=America/New_York:20230516T120000
DTEND;TZID=America/New_York:20230516T140000
DTSTAMP:20260423T070823
CREATED:20260309T204632Z
LAST-MODIFIED:20260316T172532Z
UID:41062-1684238400-1684245600@dev.nacua.org
SUMMARY:You Signed What?! Delegated Contractual Authority – Best Practices and Policies
DESCRIPTION:Sorry\, but you do not have permission to view this content.
URL:https://dev.nacua.org/event/you-signed-what-delegated-contractual-authority-best-practices-and-policies/
CATEGORIES:Virtual,Webinar
ATTACH;FMTTYPE=image/png:https://dev.nacua.org/wp-content/uploads/2026/03/5.16.23-Webinar-Header-Image.png
END:VEVENT
BEGIN:VEVENT
DTSTART;TZID=America/New_York:20230419T120000
DTEND;TZID=America/New_York:20230419T133000
DTSTAMP:20260423T070823
CREATED:20260309T223240Z
LAST-MODIFIED:20260316T172558Z
UID:41071-1681905600-1681911000@dev.nacua.org
SUMMARY:Colleges and Universities as Commercial Landlords: Considerations for the Generalist
DESCRIPTION:Sorry\, but you do not have permission to view this content.
URL:https://dev.nacua.org/event/colleges-and-universities-as-commercial-landlords-considerations-for-the-generalist/
CATEGORIES:Virtual,Webinar
ATTACH;FMTTYPE=image/png:https://dev.nacua.org/wp-content/uploads/2026/03/4-19-23-webinar-header-imagee4cb298bdd196525b0c1ff0000265210.png
END:VEVENT
BEGIN:VEVENT
DTSTART;TZID=America/New_York:20230322T000000
DTEND;TZID=America/New_York:20230324T235959
DTSTAMP:20260423T070823
CREATED:20251229T221507Z
LAST-MODIFIED:20260115T205018Z
UID:36114-1679443200-1679702399@dev.nacua.org
SUMMARY:Spring 2023 CLE Workshop: Higher Education Discrimination Law
DESCRIPTION:Sorry\, but you do not have permission to view this content.
URL:https://dev.nacua.org/event/spring-2023-cle-workshop-higher-education-discrimination-law/
LOCATION:Westin San Diego Gaslamp Quarter\, San Diego\, CA\, San Diego\, CA
CATEGORIES:CLE Workshop,In Person
END:VEVENT
BEGIN:VEVENT
DTSTART;TZID=America/New_York:20230316T120000
DTEND;TZID=America/New_York:20230316T133000
DTSTAMP:20260423T070823
CREATED:20260310T124417Z
LAST-MODIFIED:20260316T172623Z
UID:41099-1678968000-1678973400@dev.nacua.org
SUMMARY:Yes We Can: Approaches to Post-Tenure Faculty Review
DESCRIPTION:Sorry\, but you do not have permission to view this content.
URL:https://dev.nacua.org/event/yes-we-can-approaches-to-post-tenure-faculty-review/
CATEGORIES:Virtual,Webinar
ATTACH;FMTTYPE=image/png:https://dev.nacua.org/wp-content/uploads/2026/03/3-16-23-webinar-header-image.png
END:VEVENT
BEGIN:VEVENT
DTSTART;TZID=America/New_York:20230227T120000
DTEND;TZID=America/New_York:20230227T140000
DTSTAMP:20260423T070823
CREATED:20260310T131411Z
LAST-MODIFIED:20260316T172647Z
UID:41105-1677499200-1677506400@dev.nacua.org
SUMMARY:Navigating the World of Affiliated Entities
DESCRIPTION:Sorry\, but you do not have permission to view this content.
URL:https://dev.nacua.org/event/navigating-the-world-of-affiliated-entities/
CATEGORIES:Virtual,Webinar
ATTACH;FMTTYPE=image/png:https://dev.nacua.org/wp-content/uploads/2026/03/2-27-22-webinar-header-image-reduced-size.png
END:VEVENT
BEGIN:VEVENT
DTSTART;TZID=America/New_York:20230206T120000
DTEND;TZID=America/New_York:20230206T140000
DTSTAMP:20260423T070823
CREATED:20260310T131904Z
LAST-MODIFIED:20260316T172710Z
UID:41113-1675684800-1675692000@dev.nacua.org
SUMMARY:At The Top of Your Feed:  Social Media Issues on Campus
DESCRIPTION:Sorry\, but you do not have permission to view this content.
URL:https://dev.nacua.org/event/at-the-top-of-your-feed-social-media-issues-on-campus/
CATEGORIES:Virtual,Webinar
ATTACH;FMTTYPE=image/png:https://dev.nacua.org/wp-content/uploads/2026/03/2-6-23-webinar-header-image-reduced.png
END:VEVENT
BEGIN:VEVENT
DTSTART;TZID=America/New_York:20230125T000000
DTEND;TZID=America/New_York:20230127T235959
DTSTAMP:20260423T070823
CREATED:20251229T221708Z
LAST-MODIFIED:20260115T205410Z
UID:36119-1674604800-1674863999@dev.nacua.org
SUMMARY:Winter 2023 Virtual CLE Workshop: Student Affairs
DESCRIPTION:Sorry\, but you do not have permission to view this content.
URL:https://dev.nacua.org/event/winter-2023-virtual-cle-workshop-student-affairs/
LOCATION:Virtual
CATEGORIES:CLE Workshop
END:VEVENT
BEGIN:VEVENT
DTSTART;TZID=America/New_York:20221102T000000
DTEND;TZID=America/New_York:20221104T235959
DTSTAMP:20260423T070823
CREATED:20251229T221928Z
LAST-MODIFIED:20260209T191829Z
UID:36121-1667347200-1667606399@dev.nacua.org
SUMMARY:Fall 2022 CLE Workshop: Sponsored Research and Technology Transfer
DESCRIPTION:Sorry\, but you do not have permission to view this content.
URL:https://dev.nacua.org/event/fall-2022-cle-workshop-sponsored-research-and-technology-transfer/
CATEGORIES:CLE Workshop,In Person
END:VEVENT
BEGIN:VEVENT
DTSTART;TZID=America/New_York:20220626T000000
DTEND;TZID=America/New_York:20220629T235900
DTSTAMP:20260423T070823
CREATED:20260320T180742Z
LAST-MODIFIED:20260320T181344Z
UID:41810-1656201600-1656547140@dev.nacua.org
SUMMARY:2022 Annual Conference
DESCRIPTION:Sorry\, but you do not have permission to view this content.
URL:https://dev.nacua.org/event/2022-annual-conference/
LOCATION:Pittsburg\, Pennsylvania\, Pittsburg\, PA
CATEGORIES:Annual Conference,In Person
END:VEVENT
BEGIN:VEVENT
DTSTART;TZID=America/New_York:20220625T000000
DTEND;TZID=America/New_York:20220626T235959
DTSTAMP:20260423T070823
CREATED:20260323T150018Z
LAST-MODIFIED:20260323T150019Z
UID:41914-1656115200-1656287999@dev.nacua.org
SUMMARY:2022 Lawyers New to Higher Education Workshop
DESCRIPTION:Sorry\, but you do not have permission to view this content.
URL:https://dev.nacua.org/event/2022-lawyers-new-to-higher-education-workshop/
LOCATION:Chicago\, IL\, Chicago\, IL
CATEGORIES:CLE Workshop,In Person
END:VEVENT
BEGIN:VEVENT
DTSTART;TZID=America/New_York:20220329T000000
DTEND;TZID=America/New_York:20220331T235959
DTSTAMP:20260423T070823
CREATED:20260320T212639Z
LAST-MODIFIED:20260320T212655Z
UID:41902-1648512000-1648771199@dev.nacua.org
SUMMARY:Spring 2022 CLE Workshop: Higher Education Employment Law
DESCRIPTION:Sorry\, but you do not have permission to view this content.
URL:https://dev.nacua.org/event/spring-2022-cle-workshop-higher-education-employment-law/
CATEGORIES:CLE Workshop,In Person
END:VEVENT
BEGIN:VEVENT
DTSTART;TZID=America/New_York:20220204T000000
DTEND;TZID=America/New_York:20220206T235959
DTSTAMP:20260423T070823
CREATED:20260323T143310Z
LAST-MODIFIED:20260323T145136Z
UID:41907-1643932800-1644191999@dev.nacua.org
SUMMARY:2022 Virtual General Counsel Institute
DESCRIPTION:Sorry\, but you do not have permission to view this content.
URL:https://dev.nacua.org/event/2022-virtual-general-counsel-institute/
CATEGORIES:CLE Workshop,Virtual
END:VEVENT
END:VCALENDAR