BEGIN:VCALENDAR
VERSION:2.0
PRODID:-//National Association of College and University Attorneys - ECPv6.15.20//NONSGML v1.0//EN
CALSCALE:GREGORIAN
METHOD:PUBLISH
X-WR-CALNAME:National Association of College and University Attorneys
X-ORIGINAL-URL:https://dev.nacua.org
X-WR-CALDESC:Events for National Association of College and University Attorneys
REFRESH-INTERVAL;VALUE=DURATION:PT1H
X-Robots-Tag:noindex
X-PUBLISHED-TTL:PT1H
BEGIN:VTIMEZONE
TZID:America/New_York
BEGIN:DAYLIGHT
TZOFFSETFROM:-0500
TZOFFSETTO:-0400
TZNAME:EDT
DTSTART:20260308T070000
END:DAYLIGHT
BEGIN:STANDARD
TZOFFSETFROM:-0400
TZOFFSETTO:-0500
TZNAME:EST
DTSTART:20261101T060000
END:STANDARD
BEGIN:DAYLIGHT
TZOFFSETFROM:-0500
TZOFFSETTO:-0400
TZNAME:EDT
DTSTART:20270314T070000
END:DAYLIGHT
BEGIN:STANDARD
TZOFFSETFROM:-0400
TZOFFSETTO:-0500
TZNAME:EST
DTSTART:20271107T060000
END:STANDARD
BEGIN:DAYLIGHT
TZOFFSETFROM:-0500
TZOFFSETTO:-0400
TZNAME:EDT
DTSTART:20280312T070000
END:DAYLIGHT
BEGIN:STANDARD
TZOFFSETFROM:-0400
TZOFFSETTO:-0500
TZNAME:EST
DTSTART:20281105T060000
END:STANDARD
BEGIN:DAYLIGHT
TZOFFSETFROM:-0500
TZOFFSETTO:-0400
TZNAME:EDT
DTSTART:20290311T070000
END:DAYLIGHT
BEGIN:STANDARD
TZOFFSETFROM:-0400
TZOFFSETTO:-0500
TZNAME:EST
DTSTART:20291104T060000
END:STANDARD
BEGIN:DAYLIGHT
TZOFFSETFROM:-0500
TZOFFSETTO:-0400
TZNAME:EDT
DTSTART:20300310T070000
END:DAYLIGHT
BEGIN:STANDARD
TZOFFSETFROM:-0400
TZOFFSETTO:-0500
TZNAME:EST
DTSTART:20301103T060000
END:STANDARD
END:VTIMEZONE
BEGIN:VEVENT
DTSTART;TZID=America/New_York:20270623T000000
DTEND;TZID=America/New_York:20270626T235959
DTSTAMP:20260422T185831
CREATED:20251014T185412Z
LAST-MODIFIED:20260212T162239Z
UID:434-1813708800-1814054399@dev.nacua.org
SUMMARY:2027 Annual Conference
DESCRIPTION:Webinar\n\nTime to Update the Playbook: The Expanded Lineup of Federal Higher Education Regulators\n\n\n\n\n\n\n\n\n\nEvent Details\n\n\n\n\n\n\n\n\n\n\n\n\n\n\n\n\nAbout this Event\n\n\n\n\n\n\n\n\n\n\n\n\n\n\n\n\n    \n                    \n                                    \n                                            \n                                Hailyn Chen\n            \n            \n                \n                        \n                    \n                \n                                            \n                                                    \n                                        \n                        Hailyn Chen\n                        Co-Managing Partner \n                                                    Munger\, Tolles & Olson \n                                                                    \n                \n                \n                                            \nHailyn Chen is a Munger\, Tolles & Olson litigation partner and Co-Managing Partner of the firm.   \n\n\n\nMs. Chen is known as a leader inside and outside the courtroom\, with a practice focused on complex business litigation\, white collar criminal defense\, and government and internal investigations. She has earned a reputation as one of the nation’s leading lawyers\, in particular for matters involving higher education institutions or allegations of sexual misconduct in a range of litigation matters and investigations. Ms. Chen has paved the way for other women attorneys of color to excel in their practices and drive initiatives for diversity and inclusion in the legal profession.    \n\n\n\nMs. Chen is recognized in the 2025 edition of The Best Lawyers in America and in the Los Angeles Business Journal’s 2024 Leaders of Influence: Litigators and Trial Attorneys List. In 2023\, Ms. Chen was recognized by the Daily Journal in its Top 100 Lawyers List for her investigations practice\, including leading an internal investigation on behalf of UC Berkeley into allegations of abuse\, bullying and discriminatory conduct by longtime head coach of UC Berkeley Women’s Swimming\, Teri McKeever. She also served as lead counsel in an independent internal investigation into decades of alleged sexual abuse at the Thacher School\, an elite boarding school in Ojai\, California. In 2021\, Ms. Chen was listed among California’s “Top Women Lawyers” by the Daily Journal for the fourth consecutive year and\, in 2020\, she was named “Managing Partner of the Year” by Corporate Counsel.  \n\n\n\nMs. Chen is an immediate past member of the Board of Trustees of the State Bar of California\, having served for seven years on the Board as an appointee of the California Supreme Court. She is a member of the State Bar Board’s Ad Hoc Committee on Oversight and Accountability Reforms and has testified on those topics at Joint Oversight Hearings of the Senate Judiciary and Assembly Judiciary Committees. She also serves on the UCLA School of Law Advisory Board\, which advises the Dean of the UCLA Law School on significant issues. Ms. Chen is a member of the board of directors of the Attorney Liability Assurance Society (ALAS)\, the nation’s largest lawyer-owned mutual\, insuring 222 premier law firms with over 76\,000 lawyers around the world.  \n\n\n\nShe has been quoted in numerous publications including The American Lawyer\, the Daily Journal\, and in 2022 co-authored an article published by the National Association of College and University Attorneys\, “Sexual Misconduct Arising Out of Student Health\, Athletic Medicine\, and Academic Medical Centers\,” the first-of-its-kind comprehensive overview of best practices in responding to sexual misconduct in the healthcare context.  \n\n\n\nMs. Chen earned her undergraduate degree from Yale University\, where she was one of the first female coxswains to lead the Yale varsity men’s crew and was awarded the MVP award in 1996.  \n                                    \n            \n                    \n                                    \n                                            \n                                Sonya Sanchez\n            \n            \n                \n                        \n                    \n                \n                                            \n                                                    \n                                        \n                        Sonya Sanchez\n                         \n                                                                    \n                \n                \n                                            \nSonya Sanchez is Managing Counsel for Education Affairs and Governance at the University of California System. She joined the Office of the General Counsel as Senior Counsel for the Litigation group in November 2015\, overseeing a wide variety of litigated matters\, including personal injury\, First Amendment\, DACA and sexual misconduct litigation\, including Title IX litigation. In addition to managing sexual misconduct litigation\, she advises on complex policy\, regulatory and crisis management issues arising in the sexual misconduct arena.  \n\n\n\nShe received a B.A. in Philosophy from Wellesley College\, a M. Ed. from the Harvard Graduate School of Education\, and a J.D. from Stanford Law School.  \n                                    \n            \n            \n\n\n\n\n\n\n\n\n\n\n\n\n\n\n\n\n\n\n\n\n\n\n\nNACUA Annual Conference\n\n\n\nJoin us in the Music City June 29 – July 2 to connect\, learn\, and lead alongside higher education attorneys shaping policy\, practice\, and impact nationwide together. \n\n\n\n\nRegister
URL:https://dev.nacua.org/event/2027-annual-conference/
LOCATION:Colorado Convention Center\, Denver\, CO\, 700 14th St\, Denver\, CO\, 80202\, United States
CATEGORIES:Annual Conference,In Person
ATTACH;FMTTYPE=image/jpeg:https://dev.nacua.org/wp-content/uploads/2025/10/NACUA2027-Save-the-Date-Image-Website.jpg
END:VEVENT
BEGIN:VEVENT
DTSTART;TZID=America/New_York:20280625T000000
DTEND;TZID=America/New_York:20280628T235959
DTSTAMP:20260422T185832
CREATED:20251014T185939Z
LAST-MODIFIED:20260212T162348Z
UID:439-1845504000-1845849599@dev.nacua.org
SUMMARY:2028 Annual Conference
DESCRIPTION:Webinar\n\nTime to Update the Playbook: The Expanded Lineup of Federal Higher Education Regulators\n\n\n\n\n\n\n\n\n\nEvent Details\n\n\n\n\n\n\n\n\n\n\n\n\n\n\n\n\nAbout this Event\n\n\n\n\n\n\n\n\n\n\n\n\n\n\n\n\n    \n                    \n                                    \n                                            \n                                Hailyn Chen\n            \n            \n                \n                        \n                    \n                \n                                            \n                                                    \n                                        \n                        Hailyn Chen\n                        Co-Managing Partner \n                                                    Munger\, Tolles & Olson \n                                                                    \n                \n                \n                                            \nHailyn Chen is a Munger\, Tolles & Olson litigation partner and Co-Managing Partner of the firm.   \n\n\n\nMs. Chen is known as a leader inside and outside the courtroom\, with a practice focused on complex business litigation\, white collar criminal defense\, and government and internal investigations. She has earned a reputation as one of the nation’s leading lawyers\, in particular for matters involving higher education institutions or allegations of sexual misconduct in a range of litigation matters and investigations. Ms. Chen has paved the way for other women attorneys of color to excel in their practices and drive initiatives for diversity and inclusion in the legal profession.    \n\n\n\nMs. Chen is recognized in the 2025 edition of The Best Lawyers in America and in the Los Angeles Business Journal’s 2024 Leaders of Influence: Litigators and Trial Attorneys List. In 2023\, Ms. Chen was recognized by the Daily Journal in its Top 100 Lawyers List for her investigations practice\, including leading an internal investigation on behalf of UC Berkeley into allegations of abuse\, bullying and discriminatory conduct by longtime head coach of UC Berkeley Women’s Swimming\, Teri McKeever. She also served as lead counsel in an independent internal investigation into decades of alleged sexual abuse at the Thacher School\, an elite boarding school in Ojai\, California. In 2021\, Ms. Chen was listed among California’s “Top Women Lawyers” by the Daily Journal for the fourth consecutive year and\, in 2020\, she was named “Managing Partner of the Year” by Corporate Counsel.  \n\n\n\nMs. Chen is an immediate past member of the Board of Trustees of the State Bar of California\, having served for seven years on the Board as an appointee of the California Supreme Court. She is a member of the State Bar Board’s Ad Hoc Committee on Oversight and Accountability Reforms and has testified on those topics at Joint Oversight Hearings of the Senate Judiciary and Assembly Judiciary Committees. She also serves on the UCLA School of Law Advisory Board\, which advises the Dean of the UCLA Law School on significant issues. Ms. Chen is a member of the board of directors of the Attorney Liability Assurance Society (ALAS)\, the nation’s largest lawyer-owned mutual\, insuring 222 premier law firms with over 76\,000 lawyers around the world.  \n\n\n\nShe has been quoted in numerous publications including The American Lawyer\, the Daily Journal\, and in 2022 co-authored an article published by the National Association of College and University Attorneys\, “Sexual Misconduct Arising Out of Student Health\, Athletic Medicine\, and Academic Medical Centers\,” the first-of-its-kind comprehensive overview of best practices in responding to sexual misconduct in the healthcare context.  \n\n\n\nMs. Chen earned her undergraduate degree from Yale University\, where she was one of the first female coxswains to lead the Yale varsity men’s crew and was awarded the MVP award in 1996.  \n                                    \n            \n                    \n                                    \n                                            \n                                Sonya Sanchez\n            \n            \n                \n                        \n                    \n                \n                                            \n                                                    \n                                        \n                        Sonya Sanchez\n                         \n                                                                    \n                \n                \n                                            \nSonya Sanchez is Managing Counsel for Education Affairs and Governance at the University of California System. She joined the Office of the General Counsel as Senior Counsel for the Litigation group in November 2015\, overseeing a wide variety of litigated matters\, including personal injury\, First Amendment\, DACA and sexual misconduct litigation\, including Title IX litigation. In addition to managing sexual misconduct litigation\, she advises on complex policy\, regulatory and crisis management issues arising in the sexual misconduct arena.  \n\n\n\nShe received a B.A. in Philosophy from Wellesley College\, a M. Ed. from the Harvard Graduate School of Education\, and a J.D. from Stanford Law School.  \n                                    \n            \n            \n\n\n\n\n\n\n\n\n\n\n\n\n\n\n\n\n\n\n\n\n\n\n\nNACUA Annual Conference\n\n\n\nJoin us in the Music City June 29 – July 2 to connect\, learn\, and lead alongside higher education attorneys shaping policy\, practice\, and impact nationwide together. \n\n\n\n\nRegister
URL:https://dev.nacua.org/event/2028-annual-conference/
LOCATION:Hyatt Regency\, Chicago\, IL\, 151 E Wacker Dr\, Chicago\, IL\, 60601\, United States
CATEGORIES:Annual Conference,In Person
ATTACH;FMTTYPE=image/jpeg:https://dev.nacua.org/wp-content/uploads/2025/10/NACUA2028-Save-the-Date-Image-Website.jpg
END:VEVENT
BEGIN:VEVENT
DTSTART;TZID=America/New_York:20290624T000000
DTEND;TZID=America/New_York:20290627T235959
DTSTAMP:20260422T185832
CREATED:20251014T190049Z
LAST-MODIFIED:20260316T172950Z
UID:453-1876953600-1877299199@dev.nacua.org
SUMMARY:2029 Annual Conference
DESCRIPTION:Webinar\n\nTime to Update the Playbook: The Expanded Lineup of Federal Higher Education Regulators\n\n\n\n\n\n\n\n\n\nEvent Details\n\n\n\n\n\n\n\n\n\n\n\n\n\n\n\n\nAbout this Event\n\n\n\n\n\n\n\n\n\n\n\n\n\n\n    \n                    \n                                    \n                                            \n                                Hailyn Chen\n            \n            \n                \n                        \n                    \n                \n                                            \n                                                    \n                                        \n                        Hailyn Chen\n                        Co-Managing Partner \n                                                    Munger\, Tolles & Olson \n                                                                    \n                \n                \n                                            \nHailyn Chen is a Munger\, Tolles & Olson litigation partner and Co-Managing Partner of the firm.   \n\n\n\nMs. Chen is known as a leader inside and outside the courtroom\, with a practice focused on complex business litigation\, white collar criminal defense\, and government and internal investigations. She has earned a reputation as one of the nation’s leading lawyers\, in particular for matters involving higher education institutions or allegations of sexual misconduct in a range of litigation matters and investigations. Ms. Chen has paved the way for other women attorneys of color to excel in their practices and drive initiatives for diversity and inclusion in the legal profession.    \n\n\n\nMs. Chen is recognized in the 2025 edition of The Best Lawyers in America and in the Los Angeles Business Journal’s 2024 Leaders of Influence: Litigators and Trial Attorneys List. In 2023\, Ms. Chen was recognized by the Daily Journal in its Top 100 Lawyers List for her investigations practice\, including leading an internal investigation on behalf of UC Berkeley into allegations of abuse\, bullying and discriminatory conduct by longtime head coach of UC Berkeley Women’s Swimming\, Teri McKeever. She also served as lead counsel in an independent internal investigation into decades of alleged sexual abuse at the Thacher School\, an elite boarding school in Ojai\, California. In 2021\, Ms. Chen was listed among California’s “Top Women Lawyers” by the Daily Journal for the fourth consecutive year and\, in 2020\, she was named “Managing Partner of the Year” by Corporate Counsel.  \n\n\n\nMs. Chen is an immediate past member of the Board of Trustees of the State Bar of California\, having served for seven years on the Board as an appointee of the California Supreme Court. She is a member of the State Bar Board’s Ad Hoc Committee on Oversight and Accountability Reforms and has testified on those topics at Joint Oversight Hearings of the Senate Judiciary and Assembly Judiciary Committees. She also serves on the UCLA School of Law Advisory Board\, which advises the Dean of the UCLA Law School on significant issues. Ms. Chen is a member of the board of directors of the Attorney Liability Assurance Society (ALAS)\, the nation’s largest lawyer-owned mutual\, insuring 222 premier law firms with over 76\,000 lawyers around the world.  \n\n\n\nShe has been quoted in numerous publications including The American Lawyer\, the Daily Journal\, and in 2022 co-authored an article published by the National Association of College and University Attorneys\, “Sexual Misconduct Arising Out of Student Health\, Athletic Medicine\, and Academic Medical Centers\,” the first-of-its-kind comprehensive overview of best practices in responding to sexual misconduct in the healthcare context.  \n\n\n\nMs. Chen earned her undergraduate degree from Yale University\, where she was one of the first female coxswains to lead the Yale varsity men’s crew and was awarded the MVP award in 1996.  \n                                    \n            \n                    \n                                    \n                                            \n                                Sonya Sanchez\n            \n            \n                \n                        \n                    \n                \n                                            \n                                                    \n                                        \n                        Sonya Sanchez\n                         \n                                                                    \n                \n                \n                                            \nSonya Sanchez is Managing Counsel for Education Affairs and Governance at the University of California System. She joined the Office of the General Counsel as Senior Counsel for the Litigation group in November 2015\, overseeing a wide variety of litigated matters\, including personal injury\, First Amendment\, DACA and sexual misconduct litigation\, including Title IX litigation. In addition to managing sexual misconduct litigation\, she advises on complex policy\, regulatory and crisis management issues arising in the sexual misconduct arena.  \n\n\n\nShe received a B.A. in Philosophy from Wellesley College\, a M. Ed. from the Harvard Graduate School of Education\, and a J.D. from Stanford Law School.  \n                                    \n            \n            \n\n\n\n\n\n\n\n\n\n\n\n\n\n\n\n\n\n\n\n\n\n\n\nNACUA Annual Conference\n\n\n\nJoin us in the Music City June 29 – July 2 to connect\, learn\, and lead alongside higher education attorneys shaping policy\, practice\, and impact nationwide together. \n\n\n\n\nRegister
URL:https://dev.nacua.org/event/2029-annual-conference/
LOCATION:Charlotte Convention Center\, Charlotte\, NC\, 501 S College St\, Charlotte\, NC\, 28202\, United States
CATEGORIES:Annual Conference,In Person
ATTACH;FMTTYPE=image/jpeg:https://dev.nacua.org/wp-content/uploads/2025/10/NACUA2029-Save-the-Date-Image-Website.jpg
END:VEVENT
END:VCALENDAR