BEGIN:VCALENDAR
VERSION:2.0
PRODID:-//National Association of College and University Attorneys - ECPv6.15.20//NONSGML v1.0//EN
CALSCALE:GREGORIAN
METHOD:PUBLISH
X-ORIGINAL-URL:https://dev.nacua.org
X-WR-CALDESC:Events for National Association of College and University Attorneys
REFRESH-INTERVAL;VALUE=DURATION:PT1H
X-Robots-Tag:noindex
X-PUBLISHED-TTL:PT1H
BEGIN:VTIMEZONE
TZID:America/New_York
BEGIN:DAYLIGHT
TZOFFSETFROM:-0500
TZOFFSETTO:-0400
TZNAME:EDT
DTSTART:20250309T070000
END:DAYLIGHT
BEGIN:STANDARD
TZOFFSETFROM:-0400
TZOFFSETTO:-0500
TZNAME:EST
DTSTART:20251102T060000
END:STANDARD
BEGIN:DAYLIGHT
TZOFFSETFROM:-0500
TZOFFSETTO:-0400
TZNAME:EDT
DTSTART:20260308T070000
END:DAYLIGHT
BEGIN:STANDARD
TZOFFSETFROM:-0400
TZOFFSETTO:-0500
TZNAME:EST
DTSTART:20261101T060000
END:STANDARD
BEGIN:DAYLIGHT
TZOFFSETFROM:-0500
TZOFFSETTO:-0400
TZNAME:EDT
DTSTART:20270314T070000
END:DAYLIGHT
BEGIN:STANDARD
TZOFFSETFROM:-0400
TZOFFSETTO:-0500
TZNAME:EST
DTSTART:20271107T060000
END:STANDARD
END:VTIMEZONE
BEGIN:VEVENT
DTSTART;TZID=America/New_York:20260429T130000
DTEND;TZID=America/New_York:20260429T150000
DTSTAMP:20260422T190232
CREATED:20260401T185604Z
LAST-MODIFIED:20260410T185438Z
UID:41854-1777467600-1777474800@dev.nacua.org
SUMMARY:Navigating Title VI in 2026: Practical Guidance for Higher Education
DESCRIPTION:Webinar\n\nYou Signed What?! Delegated Contractual Authority – Best Practices and Policies\n\n\n\n\n\n\n\n\n\nEvent Details\n\n\n\n\n\n\n\n\n\n\n\n\n\n\n\n\nAbout this Event\n\n\n\nInstitutions of higher education continue to face complex and evolving challenges related to complaints of discrimination and harassment based on race\, color\, national origin\, and shared ancestry. Title VI enforcement remains a significant federal priority in President Trump’s second term. As a result\, colleges and universities are navigating heightened expectations to foster non-discriminatory\, welcoming environments for their faculty\, students\, and staff\, while also strengthening compliance practices and responses to federal investigations and enforcement activities. \n\n\n\nThis two-hour NACUA webinar will provide a timely overview of the current Title VI landscape. Presenters will discuss recent developments\, including relevant Executive Orders\, ongoing litigation\, and agency guidance\, and will offer practical guidance for institutions seeking to ensure compliance with Title VI guidance. \n\n\n\nTopics will include: \n\n\n\n\nKey considerations and best practices for establishing or enhancing a campus Title VI office\, or integrating Title VI functions within a broader civil rights office;\n\n\n\nRecent enforcement priorities and insights including from Resolution Agreements (under both current and prior administrations);\n\n\n\nStrategies for reviewing and aligning institutional policies with Title VI requirements;\n\n\n\nConsiderations in conducting effective Title VI investigations; and\n\n\n\nThe role of training in supporting institutional compliance and effective Title VI responses.\n\n\n\n\nWho Should Attend? \n\n\n\nThis webinar will be of interest to all college and university counsel\, particularly those who advise on Title VI matters (including campus policies on harassment and other forms of discrimination)\, student conduct\, compliance\, and belonging\, access\, and engagement\, as well as investigators and campus administrators with responsibilities related to these areas. \n\n\n\n\n\nSpeakers\n\n\n    \n                    \n                                    \n                                            \n                                Kathleen Peterson\n            \n            \n                \n                        \n                    \n                \n                                            \n                                                    \n                                        \n                        Kathleen Peterson\n                        Deputy General Counsel for Litigation and Employment Law \n                                                    Brown University \n                                                                    \n                \n                \n                                            \nKathleen Peterson is Deputy General Counsel for Litigation and Employment Law at Brown University. Kate came to Brown University in May of 2019 after more than a dozen years as Vice President and Senior Counsel of Employment & Litigation at Citizens Bank.  Prior to joining Citizens\, Kate was a labor & employment litigator at Sullivan & Worcester LLP in Boston and Hinckley\, Allen & Snyder LLP in both Boston and Providence.   \n\n\n\nAs Deputy General Counsel for Litigation and Employment Law\, Kate is responsible for advising the University on all labor and employment matters\, as well as managing the University’s broad litigation portfolio.  She partners closely with division heads\, human resources\, compliance personnel\, and key stakeholders to meaningfully provide advice and respond to and defend litigation or agency inquiries regarding employee relations functions as well as a broad range of litigation and investigations in a complex\, fast-paced environment. Kate also leads employee and manager training with an eye towards compliance practices and risk mitigation and throughout her career has been a frequent speaker on a variety of labor & employment topics\, ranging from wage and hour issues and ADA/FMLA concerns to the impact of social media on the workplace and related privacy implications.  \n\n\n\nKate graduated magna cum laude with a B.A. from Providence College and earned her J.D. from Boston University School of Law and her M.P.H. from Boston University School of Public Health\, while serving as the school’s Health Law Fellow.  During law school\, Kate served as a Note Editor on BU Law School’s American Journal of Law & Medicine.  Kate currently serves as an adjunct professor at Providence College\, where she teaches business law.  \n                                    \n            \n                    \n                                Matthew Wallis\n            \n            \n                \n                        \n                    \n                \n                                        \n                        Matthew Wallis\n                        Director of Contracts \n                                                    Texas Christian University \n                                                                    \n                \n                \n                                            \nMatthew Wallis has spent more than 20 years working in both the public and private sectors. For the past 12 years\, he has served as the Director of Contracts at Texas Christian University\, where he leads a small team of three to handle more than 2500 contracts annually. \n\n\n\nAs the Director of Contracts\, Matthew has held the unique position of being both a contracts director and the primary contracts attorney for the university\, while personally signing 90% of the University’s contracts. His expertise in contract negotiation and management has been instrumental in helping the university navigate complex legal issues and develop effective policies and procedures. \n\n\n\nMatthew earned his law degree from Baylor University School of Law in 2000 and began his legal career as a felony prosecutor for the Johnson County District Attorney's Office in Johnson County\, Texas.  In 2002\, Matthew joined the City of Fort Worth as an Assistant City Attorney\, where he provided legal guidance to city officials and departments and litigated on a wide range of issues\, including land use/development\, code enforcement\, public records\, and employment law matters.  Following his time with the City of Fort Worth\, he worked as associate with the law firm of Taylor\, Olson\, Adkins\, Sralla and Elam from 2007 to 2011\, where he represented municipal and non-profit clients\, including serving as City Attorney for several Texas municipalities\, including Benbrook\, Ovilla\, and Edgecliff Village. \n                                    \n            \n            \n\n\n\n\n\n\n\n\nProgram Schedule\n\n\n\nTimeSession Topic1:00 PMWelcome and IntroductionsFraming the Current LandscapeEnforcement Priorities and Resolution AgreementsStructuring Institutional Response: Title VI Offices and Reporting1:45 PMQ&APolicy Review and Risk MitigationTraining and Practical Application2:45 PMQ&A3:00 PMConclusion\n\n\n\n\n\n\n\n\n\n\n\nCLE \n\n\n\n\n\n\n\n\n\n\n\n\n\nFAQs \n\n\n\n\n\n\n\n\n\n\n\n\n\n\nWebinar Recording\n\n\n\nMembers who purchase the live webinar will receive access to the post-event recording in the On-Demand Learning Center at no additional charge. Non-members will not have post-event access to the recording or the materials and should plan to download materials during the live webinar.  \n\n\n\nIf you are a member\, all webinar recordings are available for purchase in our On-Demand Learning Center. The recording may be replayed at any time\, but may not be copied\, posted\, or otherwise distributed within or outside of the institution\, organization\, or firm. The license entitles the purchaser to replay the recording at one campus or at one location of any organization or firm. You can purchase the post-event recording here.  \n\n\n\n\nAccess Recording\n\n\n\nPurchase Recording\n\n\n\n\n\n\n\n\n\n\n\n2025-2026 Webinars & Briefings Sponsored by\n\n\n\n\n\n\n\n\n\n\n\n\n\n\n\n\n\n\n\n\n\n\n\n\n\n\n\n\n\n\n\n\nNACUA Annual Conference\n\n\n\nJoin us in the Music City June 29 – July 2 to connect\, learn\, and lead alongside higher education attorneys shaping policy\, practice\, and impact nationwide together. \n\n\n\n\nRegister
URL:https://dev.nacua.org/event/navigating-title-vi-in-2026-practical-guidance-for-higher-education/
CATEGORIES:Virtual,Webinar
ATTACH;FMTTYPE=image/png:https://dev.nacua.org/wp-content/uploads/2026/04/04.29.26-Webinar-Header-Image.png
END:VEVENT
END:VCALENDAR