BEGIN:VCALENDAR
VERSION:2.0
PRODID:-//National Association of College and University Attorneys - ECPv6.15.20//NONSGML v1.0//EN
CALSCALE:GREGORIAN
METHOD:PUBLISH
X-WR-CALNAME:National Association of College and University Attorneys
X-ORIGINAL-URL:https://dev.nacua.org
X-WR-CALDESC:Events for National Association of College and University Attorneys
REFRESH-INTERVAL;VALUE=DURATION:PT1H
X-Robots-Tag:noindex
X-PUBLISHED-TTL:PT1H
BEGIN:VTIMEZONE
TZID:America/New_York
BEGIN:DAYLIGHT
TZOFFSETFROM:-0500
TZOFFSETTO:-0400
TZNAME:EDT
DTSTART:20230312T070000
END:DAYLIGHT
BEGIN:STANDARD
TZOFFSETFROM:-0400
TZOFFSETTO:-0500
TZNAME:EST
DTSTART:20231105T060000
END:STANDARD
BEGIN:DAYLIGHT
TZOFFSETFROM:-0500
TZOFFSETTO:-0400
TZNAME:EDT
DTSTART:20240310T070000
END:DAYLIGHT
BEGIN:STANDARD
TZOFFSETFROM:-0400
TZOFFSETTO:-0500
TZNAME:EST
DTSTART:20241103T060000
END:STANDARD
BEGIN:DAYLIGHT
TZOFFSETFROM:-0500
TZOFFSETTO:-0400
TZNAME:EDT
DTSTART:20250309T070000
END:DAYLIGHT
BEGIN:STANDARD
TZOFFSETFROM:-0400
TZOFFSETTO:-0500
TZNAME:EST
DTSTART:20251102T060000
END:STANDARD
BEGIN:DAYLIGHT
TZOFFSETFROM:-0500
TZOFFSETTO:-0400
TZNAME:EDT
DTSTART:20260308T070000
END:DAYLIGHT
BEGIN:STANDARD
TZOFFSETFROM:-0400
TZOFFSETTO:-0500
TZNAME:EST
DTSTART:20261101T060000
END:STANDARD
BEGIN:DAYLIGHT
TZOFFSETFROM:-0500
TZOFFSETTO:-0400
TZNAME:EDT
DTSTART:20270314T070000
END:DAYLIGHT
BEGIN:STANDARD
TZOFFSETFROM:-0400
TZOFFSETTO:-0500
TZNAME:EST
DTSTART:20271107T060000
END:STANDARD
END:VTIMEZONE
BEGIN:VEVENT
DTSTART;TZID=America/New_York:20260325T150000
DTEND;TZID=America/New_York:20260325T153000
DTSTAMP:20260422T044241
CREATED:20260320T185627Z
LAST-MODIFIED:20260320T192047Z
UID:41847-1774450800-1774452600@dev.nacua.org
SUMMARY:Executive Branch Updates: Borrower Defense to Repayment
DESCRIPTION:Sorry\, but you do not have permission to view this content.
URL:https://dev.nacua.org/event/executive-branch-updates-borrower-defense-to-repayment/
CATEGORIES:Briefing,Virtual
ATTACH;FMTTYPE=image/png:https://dev.nacua.org/wp-content/uploads/2026/03/03.25.26-Briefing-Zoom-Header.png
END:VEVENT
BEGIN:VEVENT
DTSTART;TZID=America/New_York:20260306T130000
DTEND;TZID=America/New_York:20260306T133000
DTSTAMP:20260422T044241
CREATED:20260228T154434Z
LAST-MODIFIED:20260316T172145Z
UID:41421-1772802000-1772803800@dev.nacua.org
SUMMARY:Executive Branch Updates: Immigration and International Recruitment Developments
DESCRIPTION:Sorry\, but you do not have permission to view this content.
URL:https://dev.nacua.org/event/executive-branch-updates-immigration-and-international-recruitment-developments/
CATEGORIES:Briefing,Virtual
ATTACH;FMTTYPE=image/png:https://dev.nacua.org/wp-content/uploads/2026/02/03.09.26-Briefing-Header.png
END:VEVENT
BEGIN:VEVENT
DTSTART;TZID=America/New_York:20260226T130000
DTEND;TZID=America/New_York:20260226T133000
DTSTAMP:20260422T044241
CREATED:20260224T203339Z
LAST-MODIFIED:20260318T133206Z
UID:40360-1772110800-1772112600@dev.nacua.org
SUMMARY:Executive Branch Updates: The Legal Status of DEI in Higher Education
DESCRIPTION:Sorry\, but you do not have permission to view this content.
URL:https://dev.nacua.org/event/executive-branch-updates-the-legal-status-of-dei-in-higher/
CATEGORIES:Briefing,Virtual
ATTACH;FMTTYPE=image/png:https://dev.nacua.org/wp-content/uploads/2026/02/02.26.26-Briefing-Header-Image.png
END:VEVENT
BEGIN:VEVENT
DTSTART;TZID=America/New_York:20260206T120000
DTEND;TZID=America/New_York:20260206T123500
DTSTAMP:20260422T044241
CREATED:20260316T151145Z
LAST-MODIFIED:20260316T172116Z
UID:41528-1770379200-1770381300@dev.nacua.org
SUMMARY:Executive Branch Updates | Admissions Transparency: What the ACTS/IPEDS Overhaul Means for Your Institution
DESCRIPTION:Sorry\, but you do not have permission to view this content.
URL:https://dev.nacua.org/event/executive-branch-updates-admissions-transparency-what-the-acts-ipeds-overhaul-means-for-your-institution/
CATEGORIES:Briefing,Virtual
ATTACH;FMTTYPE=image/png:https://dev.nacua.org/wp-content/uploads/2026/02/02.06.26-Briefing-Header-Image.png
END:VEVENT
BEGIN:VEVENT
DTSTART;TZID=America/New_York:20260120T133000
DTEND;TZID=America/New_York:20260120T140000
DTSTAMP:20260422T044241
CREATED:20260114T221605Z
LAST-MODIFIED:20260316T173827Z
UID:37685-1768915800-1768917600@dev.nacua.org
SUMMARY:Executive Branch Updates | The First Year: Washington Update
DESCRIPTION:Sorry\, but you do not have permission to view this content.
URL:https://dev.nacua.org/event/executive-branch-updates-the-first-year-washington-update/
CATEGORIES:Briefing,Virtual
ATTACH;FMTTYPE=image/png:https://dev.nacua.org/wp-content/uploads/2026/01/01.20.26-Briefing-Header-Image-1.png
END:VEVENT
BEGIN:VEVENT
DTSTART;TZID=America/New_York:20251112T120000
DTEND;TZID=America/New_York:20251112T124500
DTSTAMP:20260422T044241
CREATED:20260211T184038Z
LAST-MODIFIED:20260316T170054Z
UID:39460-1762948800-1762951500@dev.nacua.org
SUMMARY:Executive Branch Updates: Advising Clients on the Compact for Academic Excellence in Higher Education
DESCRIPTION:Sorry\, but you do not have permission to view this content.
URL:https://dev.nacua.org/event/executive-branch-updates-advising-clients-on-the-compact-for-academic-excellence-in-higher-education/
CATEGORIES:Briefing,Virtual
ATTACH;FMTTYPE=image/png:https://dev.nacua.org/wp-content/uploads/2026/02/11.1.2.25-Briefing-Header-Image.png
END:VEVENT
BEGIN:VEVENT
DTSTART;TZID=America/New_York:20251001T130000
DTEND;TZID=America/New_York:20251001T133000
DTSTAMP:20260422T044241
CREATED:20260109T215423Z
LAST-MODIFIED:20260316T175316Z
UID:37334-1759323600-1759325400@dev.nacua.org
SUMMARY:Executive Branch Updates: H-1B Visa Developments
DESCRIPTION:Sorry\, but you do not have permission to view this content.
URL:https://dev.nacua.org/event/executive-branch-updates-h-1b-visa-developments/
CATEGORIES:Briefing,Virtual
ATTACH;FMTTYPE=image/jpeg:https://dev.nacua.org/wp-content/uploads/2026/01/10.01.25-Briefing-Header.jpg
END:VEVENT
BEGIN:VEVENT
DTSTART;TZID=America/New_York:20250905T120000
DTEND;TZID=America/New_York:20250905T123000
DTSTAMP:20260422T044241
CREATED:20260109T221256Z
LAST-MODIFIED:20260305T200832Z
UID:37339-1757073600-1757075400@dev.nacua.org
SUMMARY:Executive Branch Updates: NIH v. APHA and Federal Grant Terminations
DESCRIPTION:Sorry\, but you do not have permission to view this content.
URL:https://dev.nacua.org/event/executive-branch-updates-nih-v-apha-and-federal-grant-terminations/
CATEGORIES:Briefing,Virtual
ATTACH;FMTTYPE=image/jpeg:https://dev.nacua.org/wp-content/uploads/2026/01/09.05.25-Briefing-Header-Image.jpg
END:VEVENT
BEGIN:VEVENT
DTSTART;TZID=America/New_York:20250801T130000
DTEND;TZID=America/New_York:20250801T133000
DTSTAMP:20260422T044241
CREATED:20260112T114558Z
LAST-MODIFIED:20260318T142156Z
UID:37409-1754053200-1754055000@dev.nacua.org
SUMMARY:Executive Branch Updates: A New Executive Order on "Saving College Sports"
DESCRIPTION:Sorry\, but you do not have permission to view this content.
URL:https://dev.nacua.org/event/executive-branch-updates-a-new-executive-order-on-saving-college-sports/
CATEGORIES:Briefing,Virtual
ATTACH;FMTTYPE=image/jpeg:https://dev.nacua.org/wp-content/uploads/2026/01/08.01.25-Briefing-Header-Image.jpg
END:VEVENT
BEGIN:VEVENT
DTSTART;TZID=America/New_York:20250529T150000
DTEND;TZID=America/New_York:20250529T153000
DTSTAMP:20260422T044241
CREATED:20260203T191239Z
LAST-MODIFIED:20260318T141937Z
UID:38761-1748530800-1748532600@dev.nacua.org
SUMMARY:Executive Branch Updates: DOJ’s Civil Rights Fraud Initiative
DESCRIPTION:Sorry\, but you do not have permission to view this content.
URL:https://dev.nacua.org/event/executive-branch-updates-dojs-civil-rights-fraud-initiative/
CATEGORIES:Briefing,Virtual
ATTACH;FMTTYPE=image/png:https://dev.nacua.org/wp-content/uploads/2026/01/05.29.25-Briefing-Header-Image.png
END:VEVENT
BEGIN:VEVENT
DTSTART;TZID=America/New_York:20250522T123000
DTEND;TZID=America/New_York:20250522T131500
DTSTAMP:20260422T044241
CREATED:20260112T115816Z
LAST-MODIFIED:20260318T141811Z
UID:37423-1747917000-1747919700@dev.nacua.org
SUMMARY:Executive Branch Updates: What to Know About the Federal Grant Termination Trend
DESCRIPTION:Sorry\, but you do not have permission to view this content.
URL:https://dev.nacua.org/event/executive-branch-updates-what-to-know-about-the-federal-grant-termination-trend/
CATEGORIES:Briefing,Virtual
ATTACH;FMTTYPE=image/png:https://dev.nacua.org/wp-content/uploads/2026/01/05.22.25-Briefing-Header-Image.png
END:VEVENT
BEGIN:VEVENT
DTSTART;TZID=America/New_York:20250411T130000
DTEND;TZID=America/New_York:20250411T133000
DTSTAMP:20260422T044241
CREATED:20260112T115958Z
LAST-MODIFIED:20260318T141652Z
UID:37425-1744376400-1744378200@dev.nacua.org
SUMMARY:The First 100 Days | Federal Grants: What Counsel Need to Know Today 
DESCRIPTION:Sorry\, but you do not have permission to view this content.
URL:https://dev.nacua.org/event/the-first-100-days-federal-grants-what-counsel-need-to-know-today/
CATEGORIES:Briefing,Virtual
ATTACH;FMTTYPE=image/png:https://dev.nacua.org/wp-content/uploads/2026/01/No-Text-100-Days-Transition-Header-Image.png
END:VEVENT
BEGIN:VEVENT
DTSTART;TZID=America/New_York:20250326T120000
DTEND;TZID=America/New_York:20250326T124500
DTSTAMP:20260422T044241
CREATED:20260112T132410Z
LAST-MODIFIED:20260316T174524Z
UID:37453-1742990400-1742993100@dev.nacua.org
SUMMARY:Washington Update
DESCRIPTION:Sorry\, but you do not have permission to view this content.
URL:https://dev.nacua.org/event/washington-update/
CATEGORIES:Briefing,Virtual
ATTACH;FMTTYPE=image/png:https://dev.nacua.org/wp-content/uploads/2026/01/Header-Image-Department-of-Education-Full-Size.png
END:VEVENT
BEGIN:VEVENT
DTSTART;TZID=America/New_York:20250321T120000
DTEND;TZID=America/New_York:20250321T124500
DTSTAMP:20260422T044241
CREATED:20260112T120510Z
LAST-MODIFIED:20260318T141512Z
UID:37427-1742558400-1742561100@dev.nacua.org
SUMMARY:Fireside Chat: Farewell to the Department of Education?
DESCRIPTION:Sorry\, but you do not have permission to view this content.
URL:https://dev.nacua.org/event/fireside-chat-farewell-to-the-department-of-education/
CATEGORIES:Briefing,Virtual
ATTACH;FMTTYPE=image/png:https://dev.nacua.org/wp-content/uploads/2026/01/No-Text-100-Days-Transition-Header-Image.png
END:VEVENT
BEGIN:VEVENT
DTSTART;TZID=America/New_York:20250307T120000
DTEND;TZID=America/New_York:20250307T123000
DTSTAMP:20260422T044241
CREATED:20260112T130248Z
LAST-MODIFIED:20260316T165906Z
UID:37437-1741348800-1741350600@dev.nacua.org
SUMMARY:The First 100 Days: A Discussion on DEI with Dear Colleagues
DESCRIPTION:Sorry\, but you do not have permission to view this content.
URL:https://dev.nacua.org/event/the-first-100-days-a-discussion-on-dei-with-dear-colleagues/
CATEGORIES:Briefing,Virtual
ATTACH;FMTTYPE=image/png:https://dev.nacua.org/wp-content/uploads/2026/01/No-Text-100-Days-Transition-Header-Image.png
END:VEVENT
BEGIN:VEVENT
DTSTART;TZID=America/New_York:20250221T120000
DTEND;TZID=America/New_York:20250221T123000
DTSTAMP:20260422T044241
CREATED:20260112T130437Z
LAST-MODIFIED:20260316T163731Z
UID:37442-1740139200-1740141000@dev.nacua.org
SUMMARY:The First 100 Days: Immigration Law
DESCRIPTION:Sorry\, but you do not have permission to view this content.
URL:https://dev.nacua.org/event/the-first-100-days-immigration-law/
CATEGORIES:Briefing,Virtual
ATTACH;FMTTYPE=image/png:https://dev.nacua.org/wp-content/uploads/2026/01/No-Text-100-Days-Transition-Header-Image.png
END:VEVENT
BEGIN:VEVENT
DTSTART;TZID=America/New_York:20250207T120000
DTEND;TZID=America/New_York:20250207T123000
DTSTAMP:20260422T044241
CREATED:20260112T120849Z
LAST-MODIFIED:20260316T163651Z
UID:37431-1738929600-1738931400@dev.nacua.org
SUMMARY:The First 100 Days: What’s Happened So Far
DESCRIPTION:Sorry\, but you do not have permission to view this content.
URL:https://dev.nacua.org/event/the-first-100-days-whats-happened-so-far/
CATEGORIES:Briefing,Virtual
ATTACH;FMTTYPE=image/png:https://dev.nacua.org/wp-content/uploads/2026/01/No-Text-100-Days-Transition-Header-Image.png
END:VEVENT
BEGIN:VEVENT
DTSTART;TZID=America/New_York:20250124T120000
DTEND;TZID=America/New_York:20250124T123000
DTSTAMP:20260422T044241
CREATED:20260112T131331Z
LAST-MODIFIED:20260316T192735Z
UID:37447-1737720000-1737721800@dev.nacua.org
SUMMARY:What Now? Title IX in the Aftermath of Tennessee v. Cardona
DESCRIPTION:Sorry\, but you do not have permission to view this content.
URL:https://dev.nacua.org/event/what-now-title-ix-in-the-aftermath-of-tennessee-v-cardona/
CATEGORIES:Briefing,Virtual
ATTACH;FMTTYPE=image/jpeg:https://dev.nacua.org/wp-content/uploads/2026/01/01.24.25-Briefing-Header-Image.jpg
END:VEVENT
BEGIN:VEVENT
DTSTART;TZID=America/New_York:20250117T130000
DTEND;TZID=America/New_York:20250117T133000
DTSTAMP:20260422T044241
CREATED:20260112T130613Z
LAST-MODIFIED:20260316T192844Z
UID:37445-1737118800-1737120600@dev.nacua.org
SUMMARY:Stop Campus Hazing Act: What You Need to Know to Comply
DESCRIPTION:Sorry\, but you do not have permission to view this content.
URL:https://dev.nacua.org/event/stop-campus-hazing-act-what-you-need-to-know-to-comply/
CATEGORIES:Briefing,Virtual
ATTACH;FMTTYPE=image/png:https://dev.nacua.org/wp-content/uploads/2026/01/01.17.25-Briefing-Header-Image.png
END:VEVENT
BEGIN:VEVENT
DTSTART;TZID=America/New_York:20240425T133000
DTEND;TZID=America/New_York:20240425T140000
DTSTAMP:20260422T044241
CREATED:20260112T132743Z
LAST-MODIFIED:20260316T142629Z
UID:37457-1714051800-1714053600@dev.nacua.org
SUMMARY:The 2024 Title IX Regulations are Here!
DESCRIPTION:Sorry\, but you do not have permission to view this content.
URL:https://dev.nacua.org/event/the-2024-title-ix-regulations-are-here/
CATEGORIES:Briefing,Virtual
ATTACH;FMTTYPE=image/png:https://dev.nacua.org/wp-content/uploads/2026/01/04.25.24-Briefing-Header-Image.png
END:VEVENT
END:VCALENDAR