BEGIN:VCALENDAR
VERSION:2.0
PRODID:-//National Association of College and University Attorneys - ECPv6.15.20//NONSGML v1.0//EN
CALSCALE:GREGORIAN
METHOD:PUBLISH
X-ORIGINAL-URL:https://dev.nacua.org
X-WR-CALDESC:Events for National Association of College and University Attorneys
REFRESH-INTERVAL;VALUE=DURATION:PT1H
X-Robots-Tag:noindex
X-PUBLISHED-TTL:PT1H
BEGIN:VTIMEZONE
TZID:America/New_York
BEGIN:DAYLIGHT
TZOFFSETFROM:-0500
TZOFFSETTO:-0400
TZNAME:EDT
DTSTART:20250309T070000
END:DAYLIGHT
BEGIN:STANDARD
TZOFFSETFROM:-0400
TZOFFSETTO:-0500
TZNAME:EST
DTSTART:20251102T060000
END:STANDARD
BEGIN:DAYLIGHT
TZOFFSETFROM:-0500
TZOFFSETTO:-0400
TZNAME:EDT
DTSTART:20260308T070000
END:DAYLIGHT
BEGIN:STANDARD
TZOFFSETFROM:-0400
TZOFFSETTO:-0500
TZNAME:EST
DTSTART:20261101T060000
END:STANDARD
BEGIN:DAYLIGHT
TZOFFSETFROM:-0500
TZOFFSETTO:-0400
TZNAME:EDT
DTSTART:20270314T070000
END:DAYLIGHT
BEGIN:STANDARD
TZOFFSETFROM:-0400
TZOFFSETTO:-0500
TZNAME:EST
DTSTART:20271107T060000
END:STANDARD
END:VTIMEZONE
BEGIN:VEVENT
DTSTART;TZID=America/New_York:20260312T000000
DTEND;TZID=America/New_York:20260314T235959
DTSTAMP:20260420T122319
CREATED:20251229T231911Z
LAST-MODIFIED:20260316T172149Z
UID:36123-1773273600-1773532799@dev.nacua.org
SUMMARY:2026 General Counsel Institute
DESCRIPTION:
URL:https://dev.nacua.org/event/2026-general-counsel-institute/
LOCATION:InterContinental\, New Orleans\, LA\, 444 St Charles Ave\, New Orleans\, LA\, 70130\, United States
CATEGORIES:CLE Workshop,In Person
ATTACH;FMTTYPE=image/jpeg:https://dev.nacua.org/wp-content/uploads/2025/12/GCI-2026-Promo-Image-iStock-168447106-scaled.jpg
END:VEVENT
END:VCALENDAR