BEGIN:VCALENDAR
VERSION:2.0
PRODID:-//National Association of College and University Attorneys - ECPv6.15.20//NONSGML v1.0//EN
CALSCALE:GREGORIAN
METHOD:PUBLISH
X-ORIGINAL-URL:https://dev.nacua.org
X-WR-CALDESC:Events for National Association of College and University Attorneys
REFRESH-INTERVAL;VALUE=DURATION:PT1H
X-Robots-Tag:noindex
X-PUBLISHED-TTL:PT1H
BEGIN:VTIMEZONE
TZID:America/New_York
BEGIN:DAYLIGHT
TZOFFSETFROM:-0500
TZOFFSETTO:-0400
TZNAME:EDT
DTSTART:20240310T070000
END:DAYLIGHT
BEGIN:STANDARD
TZOFFSETFROM:-0400
TZOFFSETTO:-0500
TZNAME:EST
DTSTART:20241103T060000
END:STANDARD
BEGIN:DAYLIGHT
TZOFFSETFROM:-0500
TZOFFSETTO:-0400
TZNAME:EDT
DTSTART:20250309T070000
END:DAYLIGHT
BEGIN:STANDARD
TZOFFSETFROM:-0400
TZOFFSETTO:-0500
TZNAME:EST
DTSTART:20251102T060000
END:STANDARD
BEGIN:DAYLIGHT
TZOFFSETFROM:-0500
TZOFFSETTO:-0400
TZNAME:EDT
DTSTART:20260308T070000
END:DAYLIGHT
BEGIN:STANDARD
TZOFFSETFROM:-0400
TZOFFSETTO:-0500
TZNAME:EST
DTSTART:20261101T060000
END:STANDARD
END:VTIMEZONE
BEGIN:VEVENT
DTSTART;TZID=America/New_York:20251119T000000
DTEND;TZID=America/New_York:20251121T235959
DTSTAMP:20260420T224009
CREATED:20250909T193229Z
LAST-MODIFIED:20260316T170057Z
UID:78-1763510400-1763769599@dev.nacua.org
SUMMARY:Fall 2025 CLE Workshop: Employment Law
DESCRIPTION:The world of employment and labor law is evolving at a breakneck pace. Executive branch action and court rulings have caused sweeping changes to many areas\, such as hiring international faculty\, student-athlete status\, and employment-related Title VI and DEI challenges. Higher education attorneys and administrators are tasked with spotting important trends\, managing ever-higher levels of risk\, and ensuring the workforce continues to serve the university’s mission through this increasingly complex landscape. At the same time\, campus counsel and administrators continue to manage day-to-day issues involving employees and labor on campus and through litigation. \nJoin us in Washington\, D.C. for this comprehensive CLE Workshop on higher education employment law. Workshop sessions will cover relevant topics such as: \n\nEmployment litigation and labor law trends;\nFaculty-specific issues\, including faculty misconduct investigations\, academic freedom\, free speech\, and intellectual property disputes;\nInterpretating new guidance and trends regarding Title VI and DEI initiatives in the employment context;\nStudent-athletes as employees and associated NIL considerations;\nProviding guidance during periods of workforce downsizing and managing your institution’s crisis communications; and\nOther employment-related challenges\, especially in light of increased immigration enforcement of international faculty and staff\, artificial intelligence use on campus\, a renewed focus on the False Claims Act\, and conversations regarding employee compensation and benefits.\n\nWorkshop attendees will also have the opportunity to connect with colleagues and discuss relevant issues through discussion groups. \nWho Should Attend?\nThis program is at the intermediate to advanced level. Presenters will assume attendees have some familiarity and experience with employment law. The workshop content will be most useful to college and university counsel with responsibility for employment law matters\, as well as campus administrators who oversee matters related to employment law and labor issues.
URL:https://dev.nacua.org/event/fall-2025-cle-workshop-employment-law/
LOCATION:Omni Shoreham Hotel\, Washington\, D.C.\, 2500 Calvert St NW\, Washington\, DC\, 20008\, United States
CATEGORIES:CLE Workshop,In Person
END:VEVENT
END:VCALENDAR