BEGIN:VCALENDAR
VERSION:2.0
PRODID:-//National Association of College and University Attorneys - ECPv6.15.20//NONSGML v1.0//EN
CALSCALE:GREGORIAN
METHOD:PUBLISH
X-WR-CALNAME:National Association of College and University Attorneys
X-ORIGINAL-URL:https://dev.nacua.org
X-WR-CALDESC:Events for National Association of College and University Attorneys
REFRESH-INTERVAL;VALUE=DURATION:PT1H
X-Robots-Tag:noindex
X-PUBLISHED-TTL:PT1H
BEGIN:VTIMEZONE
TZID:America/New_York
BEGIN:DAYLIGHT
TZOFFSETFROM:-0500
TZOFFSETTO:-0400
TZNAME:EDT
DTSTART:20240310T070000
END:DAYLIGHT
BEGIN:STANDARD
TZOFFSETFROM:-0400
TZOFFSETTO:-0500
TZNAME:EST
DTSTART:20241103T060000
END:STANDARD
BEGIN:DAYLIGHT
TZOFFSETFROM:-0500
TZOFFSETTO:-0400
TZNAME:EDT
DTSTART:20250309T070000
END:DAYLIGHT
BEGIN:STANDARD
TZOFFSETFROM:-0400
TZOFFSETTO:-0500
TZNAME:EST
DTSTART:20251102T060000
END:STANDARD
BEGIN:DAYLIGHT
TZOFFSETFROM:-0500
TZOFFSETTO:-0400
TZNAME:EDT
DTSTART:20260308T070000
END:DAYLIGHT
BEGIN:STANDARD
TZOFFSETFROM:-0400
TZOFFSETTO:-0500
TZNAME:EST
DTSTART:20261101T060000
END:STANDARD
END:VTIMEZONE
BEGIN:VEVENT
DTSTART;TZID=America/New_York:20250326T000000
DTEND;TZID=America/New_York:20250328T235959
DTSTAMP:20260421T114926
CREATED:20251229T213445Z
LAST-MODIFIED:20260316T165920Z
UID:36085-1742947200-1743206399@dev.nacua.org
SUMMARY:Spring 2025 CLE Workshop: Discrimination Law
DESCRIPTION:CLE Workshop\, In Person\n\n2022 Lawyers New to Higher Education Workshop\n\n\n\n\n\n\n\n\n\nEvent Details\n\n\n\n\n\n\n\n\n\n\n\n\n\n\n\n\nAbout this Event\n\n\n\nUt ut euismod ante. Sed feugiat\, mi at maximus aliquam\, justo nisi semper velit\, tristique sodales eros odio dignissim risus. Duis feugiat turpis quis est rhoncus condimentum. Pellentesque a efficitur nulla. Vestibulum convallis elit mauris\, id sodales enim tincidunt eu. Cras eget porta nunc. Suspendisse lacinia consectetur ultrices. Phasellus consequat metus id urna viverra\, eget consectetur urna sagittis. \n\n\n\n\n\n\n\n\n\n\n\nSpeakers\n\n\n\n\n\n\n\n\n\n\nProgram Schedule\n\n\n\nTimeSession Topic12:00 – 12:10Welcome and Introductions13:00 – 13:10Grants v. Contracts14:00 – 14:10Funding Termination\n\n\n\n\n\n\n\n\n\n\n\nCLE \n\n\n\n\n\n\n\n\n\n\n\n\n\nFAQs \n\n\n\n\n\n\n\n\n\n\n\n\n\n\nWebinar Recording\n\n\n\nMembers who purchase the Live Webinar will receive access to the Post-Event Recording in the Online Learning Center at no additional charge. Non-members will not have post-event access to the recording or the materials and should plan to download materials during the live webinar. \n\n\n\nIf you are a member and couldn’t attend live\, the event recording will be available for purchase in our Online Learning Center. The recording may be replayed at any time\, but may not be copied\, posted\, or otherwise distributed within or outside of the institution\, organization\, or firm. The license entitles the purchaser to replay the recording at one campus or at one location of any organization or firm. You can purchase the Post-Event Recording here. \n\n\n\n\nAccess Recording\n\n\n\nPurchase Recording\n\n\n\n\n\n\n\n\n\nCooperating Associations\n\n\n\n\n\n\n\n\n\n\n\n\n\n\n\n\n\n\n\n\n\n\n\n\n\n\n\n\n\n\n\n\n\n2024-2025 Webinars Sponsored by\n\n\n\n\n\n\n\n\n\n\n\n\n\n\n\n\n\n\n\n\n\n\n\n\n\n\n\n\n\n\n\n\nNACUA Annual Conference\n\n\n\nJoin us in the Music City June 29 – July 2 to connect\, learn\, and lead alongside higher education attorneys shaping policy\, practice\, and impact nationwide together. \n\n\n\n\nRegister
URL:https://dev.nacua.org/event/spring-2025-cle-workshop-discrimination-law/
LOCATION:The Westin Denver Downtown\, Denver\, CO\, Denver\, CO
CATEGORIES:CLE Workshop,In Person
END:VEVENT
END:VCALENDAR