BEGIN:VCALENDAR
VERSION:2.0
PRODID:-//National Association of College and University Attorneys - ECPv6.15.20//NONSGML v1.0//EN
CALSCALE:GREGORIAN
METHOD:PUBLISH
X-WR-CALNAME:National Association of College and University Attorneys
X-ORIGINAL-URL:https://dev.nacua.org
X-WR-CALDESC:Events for National Association of College and University Attorneys
REFRESH-INTERVAL;VALUE=DURATION:PT1H
X-Robots-Tag:noindex
X-PUBLISHED-TTL:PT1H
BEGIN:VTIMEZONE
TZID:America/New_York
BEGIN:DAYLIGHT
TZOFFSETFROM:-0500
TZOFFSETTO:-0400
TZNAME:EDT
DTSTART:20210314T070000
END:DAYLIGHT
BEGIN:STANDARD
TZOFFSETFROM:-0400
TZOFFSETTO:-0500
TZNAME:EST
DTSTART:20211107T060000
END:STANDARD
BEGIN:DAYLIGHT
TZOFFSETFROM:-0500
TZOFFSETTO:-0400
TZNAME:EDT
DTSTART:20220313T070000
END:DAYLIGHT
BEGIN:STANDARD
TZOFFSETFROM:-0400
TZOFFSETTO:-0500
TZNAME:EST
DTSTART:20221106T060000
END:STANDARD
BEGIN:DAYLIGHT
TZOFFSETFROM:-0500
TZOFFSETTO:-0400
TZNAME:EDT
DTSTART:20230312T070000
END:DAYLIGHT
BEGIN:STANDARD
TZOFFSETFROM:-0400
TZOFFSETTO:-0500
TZNAME:EST
DTSTART:20231105T060000
END:STANDARD
END:VTIMEZONE
BEGIN:VEVENT
DTSTART;TZID=America/New_York:20221102T000000
DTEND;TZID=America/New_York:20221104T235959
DTSTAMP:20260423T073805
CREATED:20251229T221928Z
LAST-MODIFIED:20260209T191829Z
UID:36121-1667347200-1667606399@dev.nacua.org
SUMMARY:Fall 2022 CLE Workshop: Sponsored Research and Technology Transfer
DESCRIPTION:INSTRUCTORS\n      \n      \n         \n                           \n                                 \n                        Abbey Richards\n                     \n\n\n         \n            \n               \n                  \n               \n            \n            \n                                 \n                                       \n                              \n                  Abbey Richards\n                  Senior Counsel \n                                                   \n            \n\n            \n                                 \nAbbey V. Richards has been part the Office of the Vice President and General Counsel at the George Washington University since 2003\, starting as a law clerk and working her way through the ranks to her present Senior Counsel role. She regularly advises senior leaders on a wide range of issues impacting higher education. Her principal areas of focus include non-profit governance and compliance\, business and banking transactions\, non-profit taxation\, international issues\, conflicts of interest\, research compliance\, and general contract review. In addition\, for several years she taught a course in Higher Education Law and Politics at Drexel University’s Graduate School of Education.    \n\n\n\nAbbey joined NACUA in 2005. During this time\, she has served on several committees including multi-year terms on the Committee on Finance and Audit\, the Committee on Strategic Planning\, the Committee on Membership and Member Services\, and the Committee on Program for Annual Conference. She has also spoken several times at NACUA conferences and workshops.   \n\n\n\nAbbey holds a B.A. in International and Area Studies from the University of Oklahoma and both a J.D. and an M.A. in International Affairs from the George Washington University. 
URL:https://dev.nacua.org/event/fall-2022-cle-workshop-sponsored-research-and-technology-transfer/
LOCATION:IL
CATEGORIES:CLE Workshop,In Person
END:VEVENT
END:VCALENDAR