BEGIN:VCALENDAR
VERSION:2.0
PRODID:-//National Association of College and University Attorneys - ECPv6.15.20//NONSGML v1.0//EN
CALSCALE:GREGORIAN
METHOD:PUBLISH
X-ORIGINAL-URL:https://dev.nacua.org
X-WR-CALDESC:Events for National Association of College and University Attorneys
REFRESH-INTERVAL;VALUE=DURATION:PT1H
X-Robots-Tag:noindex
X-PUBLISHED-TTL:PT1H
BEGIN:VTIMEZONE
TZID:America/New_York
BEGIN:DAYLIGHT
TZOFFSETFROM:-0500
TZOFFSETTO:-0400
TZNAME:EDT
DTSTART:20260308T070000
END:DAYLIGHT
BEGIN:STANDARD
TZOFFSETFROM:-0400
TZOFFSETTO:-0500
TZNAME:EST
DTSTART:20261101T060000
END:STANDARD
BEGIN:DAYLIGHT
TZOFFSETFROM:-0500
TZOFFSETTO:-0400
TZNAME:EDT
DTSTART:20270314T070000
END:DAYLIGHT
BEGIN:STANDARD
TZOFFSETFROM:-0400
TZOFFSETTO:-0500
TZNAME:EST
DTSTART:20271107T060000
END:STANDARD
BEGIN:DAYLIGHT
TZOFFSETFROM:-0500
TZOFFSETTO:-0400
TZNAME:EDT
DTSTART:20280312T070000
END:DAYLIGHT
BEGIN:STANDARD
TZOFFSETFROM:-0400
TZOFFSETTO:-0500
TZNAME:EST
DTSTART:20281105T060000
END:STANDARD
END:VTIMEZONE
BEGIN:VEVENT
DTSTART;TZID=America/New_York:20270623T000000
DTEND;TZID=America/New_York:20270626T235959
DTSTAMP:20260422T062937
CREATED:20251014T185412Z
LAST-MODIFIED:20260212T162239Z
UID:434-1813708800-1814054399@dev.nacua.org
SUMMARY:2027 Annual Conference
DESCRIPTION:Annual Conference\n\n2022 Annual Conference\n\n\n\n\n\n\n\n\n\nEvent Details\n\n\n\n\n\n\n\n\n\n\n\n\n\n\n\n\nAbout this Event\n\n\n\n\n\n\n\n\n\n\n\n\n\n\n\n\n\n\n\n\n\n\n\n\n\n\n\n\n\n\n\n\n\n\n\n\n\n\n\nNACUA Annual Conference\n\n\n\nJoin us in the Music City June 29 – July 2 to connect\, learn\, and lead alongside higher education attorneys shaping policy\, practice\, and impact nationwide together. \n\n\n\n\nRegister
URL:https://dev.nacua.org/event/2027-annual-conference/
LOCATION:Colorado Convention Center\, Denver\, CO\, 700 14th St\, Denver\, CO\, 80202\, United States
CATEGORIES:Annual Conference,In Person
ATTACH;FMTTYPE=image/jpeg:https://dev.nacua.org/wp-content/uploads/2025/10/NACUA2027-Save-the-Date-Image-Website.jpg
END:VEVENT
END:VCALENDAR